Package: flowGate Version: 1.11.0 Command: /home/biocbuild/bbs-3.23-bioc/R/bin/R CMD check --install=check:flowGate.install-out.txt --library=/home/biocbuild/bbs-3.23-bioc/R/site-library --timings flowGate_1.11.0.tar.gz StartedAt: 2025-11-25 23:41:59 -0500 (Tue, 25 Nov 2025) EndedAt: 2025-11-25 23:43:43 -0500 (Tue, 25 Nov 2025) EllapsedTime: 103.2 seconds RetCode: 0 Status: OK CheckDir: flowGate.Rcheck Warnings: 0