Package: flowGate Version: 1.11.0 Command: /home/biocbuild/bbs-3.23-bioc/R/bin/R CMD build --keep-empty-dirs --no-resave-data flowGate StartedAt: 2025-11-07 17:35:41 -0500 (Fri, 07 Nov 2025) EndedAt: 2025-11-07 17:36:10 -0500 (Fri, 07 Nov 2025) EllapsedTime: 29.0 seconds RetCode: 0 Status: OK PackageFile: flowGate_1.11.0.tar.gz PackageFileSize: 2.099 MiB