Package: flowFP Version: 1.67.0 Command: /home/biocbuild/bbs-3.22-bioc/R/bin/R CMD check --install=check:flowFP.install-out.txt --library=/home/biocbuild/bbs-3.22-bioc/R/site-library --timings flowFP_1.67.0.tar.gz StartedAt: 2025-10-21 23:56:12 -0400 (Tue, 21 Oct 2025) EndedAt: 2025-10-21 23:57:39 -0400 (Tue, 21 Oct 2025) EllapsedTime: 87.2 seconds RetCode: 0 Status: OK CheckDir: flowFP.Rcheck Warnings: 0