Package: flowFP Version: 1.69.0 Command: /home/biocbuild/bbs-3.23-bioc/R/bin/R CMD build --keep-empty-dirs --no-resave-data flowFP StartedAt: 2025-11-03 17:33:42 -0500 (Mon, 03 Nov 2025) EndedAt: 2025-11-03 17:34:06 -0500 (Mon, 03 Nov 2025) EllapsedTime: 24.0 seconds RetCode: 0 Status: OK PackageFile: flowFP_1.69.0.tar.gz PackageFileSize: 5.132 MiB