Package: flowFP Version: 1.67.0 Command: rm -rf flowFP.buildbin-libdir && mkdir flowFP.buildbin-libdir && /Users/biocbuild/BBS/utils/build-universal.sh flowFP_1.67.0.tar.gz /Library/Frameworks/R.framework/Resources/bin/R flowFP.buildbin-libdir StartedAt: 2025-09-30 01:43:18 -0400 (Tue, 30 Sep 2025) EndedAt: 2025-09-30 01:43:55 -0400 (Tue, 30 Sep 2025) EllapsedTime: 37.1 seconds RetCode: 0 Status: OK PackageFile: flowFP_1.67.0.tgz PackageFileSize: 5.531 MiB