Package: flowDensity Version: 1.43.0 Command: /home/biocbuild/bbs-3.22-bioc/R/bin/R CMD check --install=check:flowDensity.install-out.txt --library=/home/biocbuild/bbs-3.22-bioc/R/site-library --timings flowDensity_1.43.0.tar.gz StartedAt: 2025-10-14 00:08:50 -0400 (Tue, 14 Oct 2025) EndedAt: 2025-10-14 00:09:45 -0400 (Tue, 14 Oct 2025) EllapsedTime: 55.1 seconds RetCode: 0 Status: WARNINGS CheckDir: flowDensity.Rcheck Warnings: 3