Package: flowCyBar Version: 1.47.0 Command: /home/biocbuild/bbs-3.23-bioc/R/bin/R CMD INSTALL flowCyBar StartedAt: 2025-11-02 15:12:47 -0500 (Sun, 02 Nov 2025) EndedAt: 2025-11-02 15:13:26 -0500 (Sun, 02 Nov 2025) EllapsedTime: 39.1 seconds RetCode: 0 Status: OK