Package: flowCyBar Version: 1.47.0 Command: /home/biocbuild/bbs-3.23-bioc/R/bin/R CMD build --keep-empty-dirs --no-resave-data flowCyBar StartedAt: 2025-11-03 17:33:40 -0500 (Mon, 03 Nov 2025) EndedAt: 2025-11-03 17:33:56 -0500 (Mon, 03 Nov 2025) EllapsedTime: 16.0 seconds RetCode: 0 Status: OK PackageFile: flowCyBar_1.47.0.tar.gz PackageFileSize: 508.2 KiB