Package: flowCyBar Version: 1.45.0 Command: /Library/Frameworks/R.framework/Resources/bin/R CMD INSTALL flowCyBar StartedAt: 2025-10-05 15:09:04 -0400 (Sun, 05 Oct 2025) EndedAt: 2025-10-05 15:10:14 -0400 (Sun, 05 Oct 2025) EllapsedTime: 69.3 seconds RetCode: 0 Status: OK