Package: flowCyBar Version: 1.45.0 Command: /Library/Frameworks/R.framework/Resources/bin/R CMD build --keep-empty-dirs --no-resave-data flowCyBar StartedAt: 2025-10-05 17:03:07 -0400 (Sun, 05 Oct 2025) EndedAt: 2025-10-05 17:03:35 -0400 (Sun, 05 Oct 2025) EllapsedTime: 28.6 seconds RetCode: 0 Status: OK PackageFile: flowCyBar_1.45.0.tar.gz PackageFileSize: 507.4 KiB