Package: flowCyBar Version: 1.45.0 Command: rm -rf flowCyBar.buildbin-libdir && mkdir flowCyBar.buildbin-libdir && /Users/biocbuild/BBS/utils/build-universal.sh flowCyBar_1.45.0.tar.gz /Library/Frameworks/R.framework/Resources/bin/R flowCyBar.buildbin-libdir StartedAt: 2025-10-06 02:00:57 -0400 (Mon, 06 Oct 2025) EndedAt: 2025-10-06 02:01:08 -0400 (Mon, 06 Oct 2025) EllapsedTime: 10.4 seconds RetCode: 0 Status: OK PackageFile: flowCyBar_1.45.0.tgz PackageFileSize: 532.9 KiB