Package: flowCut Version: 1.21.0 Command: /home/biocbuild/bbs-3.23-bioc/R/bin/R CMD INSTALL flowCut StartedAt: 2025-11-02 15:20:31 -0500 (Sun, 02 Nov 2025) EndedAt: 2025-11-02 15:20:39 -0500 (Sun, 02 Nov 2025) EllapsedTime: 7.6 seconds RetCode: 0 Status: OK