Package: flowCut Version: 1.21.0 Command: /home/biocbuild/bbs-3.23-bioc/R/bin/R CMD build --keep-empty-dirs --no-resave-data flowCut StartedAt: 2025-10-31 17:49:44 -0400 (Fri, 31 Oct 2025) EndedAt: 2025-10-31 17:50:07 -0400 (Fri, 31 Oct 2025) EllapsedTime: 23.0 seconds RetCode: 0 Status: OK PackageFile: flowCut_1.21.0.tar.gz PackageFileSize: 7.578 MiB