Package: flowCut Version: 1.19.0 Command: /Library/Frameworks/R.framework/Resources/bin/R CMD INSTALL flowCut StartedAt: 2025-10-09 15:16:04 -0400 (Thu, 09 Oct 2025) EndedAt: 2025-10-09 15:16:16 -0400 (Thu, 09 Oct 2025) EllapsedTime: 11.3 seconds RetCode: 0 Status: OK