Package: flowCut Version: 1.19.0 Command: /Library/Frameworks/R.framework/Resources/bin/R CMD build --keep-empty-dirs --no-resave-data flowCut StartedAt: 2025-10-10 17:12:07 -0400 (Fri, 10 Oct 2025) EndedAt: 2025-10-10 17:12:49 -0400 (Fri, 10 Oct 2025) EllapsedTime: 41.5 seconds RetCode: 0 Status: OK PackageFile: flowCut_1.19.0.tar.gz PackageFileSize: 8.383 MiB