Package: flowCut Version: 1.19.0 Command: rm -rf flowCut.buildbin-libdir && mkdir flowCut.buildbin-libdir && /Users/biocbuild/BBS/utils/build-universal.sh flowCut_1.19.0.tar.gz /Library/Frameworks/R.framework/Resources/bin/R flowCut.buildbin-libdir StartedAt: 2025-10-11 02:29:55 -0400 (Sat, 11 Oct 2025) EndedAt: 2025-10-11 02:30:12 -0400 (Sat, 11 Oct 2025) EllapsedTime: 17.5 seconds RetCode: 0 Status: OK PackageFile: flowCut_1.19.0.tgz PackageFileSize: 8.061 MiB