Package: flowCore Version: 2.23.0 Command: /home/biocbuild/bbs-3.23-bioc/R/bin/R CMD check --install=check:flowCore.install-out.txt --library=/home/biocbuild/bbs-3.23-bioc/R/site-library --timings flowCore_2.23.0.tar.gz StartedAt: 2025-11-21 23:37:55 -0500 (Fri, 21 Nov 2025) EndedAt: 2025-11-21 23:40:43 -0500 (Fri, 21 Nov 2025) EllapsedTime: 168.3 seconds RetCode: 0 Status: WARNINGS CheckDir: flowCore.Rcheck Warnings: 3