Package: flowCore Version: 2.23.0 Command: /home/biocbuild/bbs-3.23-bioc/R/bin/R CMD build --keep-empty-dirs --no-resave-data flowCore StartedAt: 2025-11-20 17:39:12 -0500 (Thu, 20 Nov 2025) EndedAt: 2025-11-20 17:40:29 -0500 (Thu, 20 Nov 2025) EllapsedTime: 77.1 seconds RetCode: 0 Status: OK PackageFile: flowCore_2.23.0.tar.gz PackageFileSize: 7.452 MiB