Package: flowClust Version: 3.49.0 Command: /home/biocbuild/bbs-3.23-bioc/R/bin/R CMD INSTALL flowClust StartedAt: 2025-11-04 15:13:43 -0500 (Tue, 04 Nov 2025) EndedAt: 2025-11-04 15:15:22 -0500 (Tue, 04 Nov 2025) EllapsedTime: 98.8 seconds RetCode: 0 Status: OK