Package: flowClust Version: 3.49.0 Command: /home/biocbuild/bbs-3.23-bioc/R/bin/R CMD build --keep-empty-dirs --no-resave-data flowClust StartedAt: 2025-11-04 17:34:12 -0500 (Tue, 04 Nov 2025) EndedAt: 2025-11-04 17:36:00 -0500 (Tue, 04 Nov 2025) EllapsedTime: 107.2 seconds RetCode: 0 Status: OK PackageFile: flowClust_3.49.0.tar.gz PackageFileSize: 1.727 MiB