Package: flowClust Version: 3.47.0 Command: /Library/Frameworks/R.framework/Resources/bin/R CMD INSTALL flowClust StartedAt: 2025-10-03 15:15:29 -0400 (Fri, 03 Oct 2025) EndedAt: 2025-10-03 15:19:08 -0400 (Fri, 03 Oct 2025) EllapsedTime: 219.0 seconds RetCode: 0 Status: OK