Package: flowClust Version: 3.47.0 Command: /Library/Frameworks/R.framework/Resources/bin/R CMD build --keep-empty-dirs --no-resave-data flowClust StartedAt: 2025-10-03 17:02:32 -0400 (Fri, 03 Oct 2025) EndedAt: 2025-10-03 17:06:41 -0400 (Fri, 03 Oct 2025) EllapsedTime: 248.5 seconds RetCode: 0 Status: OK PackageFile: flowClust_3.47.0.tar.gz PackageFileSize: 1.765 MiB