Package: flowClust Version: 3.47.0 Command: rm -rf flowClust.buildbin-libdir && mkdir flowClust.buildbin-libdir && /Users/biocbuild/BBS/utils/build-universal.sh flowClust_3.47.0.tar.gz /Library/Frameworks/R.framework/Resources/bin/R flowClust.buildbin-libdir StartedAt: 2025-10-04 02:05:34 -0400 (Sat, 04 Oct 2025) EndedAt: 2025-10-04 02:10:41 -0400 (Sat, 04 Oct 2025) EllapsedTime: 306.5 seconds RetCode: 0 Status: OK PackageFile: flowClust_3.47.0.tgz PackageFileSize: 1.538 MiB