Package: flowClean Version: 1.47.0 Command: /home/biocbuild/bbs-3.22-bioc/R/bin/R CMD check --install=check:flowClean.install-out.txt --library=/home/biocbuild/bbs-3.22-bioc/R/site-library --timings flowClean_1.47.0.tar.gz StartedAt: 2025-10-12 23:53:45 -0400 (Sun, 12 Oct 2025) EndedAt: 2025-10-12 23:55:10 -0400 (Sun, 12 Oct 2025) EllapsedTime: 85.1 seconds RetCode: 0 Status: WARNINGS CheckDir: flowClean.Rcheck Warnings: 3