Package: flowClean Version: 1.49.0 Command: /home/biocbuild/bbs-3.23-bioc/R/bin/R CMD build --keep-empty-dirs --no-resave-data flowClean StartedAt: 2025-10-31 17:49:15 -0400 (Fri, 31 Oct 2025) EndedAt: 2025-10-31 17:49:44 -0400 (Fri, 31 Oct 2025) EllapsedTime: 29.0 seconds RetCode: 0 Status: OK PackageFile: flowClean_1.49.0.tar.gz PackageFileSize: 4.716 MiB