Package: flowCHIC Version: 1.45.0 Command: /home/biocbuild/bbs-3.23-bioc/R/bin/R CMD build --keep-empty-dirs --no-resave-data flowCHIC StartedAt: 2025-11-02 17:37:30 -0500 (Sun, 02 Nov 2025) EndedAt: 2025-11-02 17:38:03 -0500 (Sun, 02 Nov 2025) EllapsedTime: 33.0 seconds RetCode: 0 Status: OK PackageFile: flowCHIC_1.45.0.tar.gz PackageFileSize: 3.24 MiB