Package: flowCHIC Version: 1.43.0 Command: /Library/Frameworks/R.framework/Resources/bin/R CMD INSTALL flowCHIC StartedAt: 2025-10-08 15:19:57 -0400 (Wed, 08 Oct 2025) EndedAt: 2025-10-08 15:20:16 -0400 (Wed, 08 Oct 2025) EllapsedTime: 18.5 seconds RetCode: 0 Status: OK