Package: flowBin Version: 1.45.0 Command: /Library/Frameworks/R.framework/Resources/bin/R CMD INSTALL flowBin StartedAt: 2025-10-09 15:16:05 -0400 (Thu, 09 Oct 2025) EndedAt: 2025-10-09 15:16:18 -0400 (Thu, 09 Oct 2025) EllapsedTime: 13.0 seconds RetCode: 0 Status: OK