Package: flowBin Version: 1.45.0 Command: /Library/Frameworks/R.framework/Resources/bin/R CMD build --keep-empty-dirs --no-resave-data flowBin StartedAt: 2025-10-09 17:05:24 -0400 (Thu, 09 Oct 2025) EndedAt: 2025-10-09 17:05:58 -0400 (Thu, 09 Oct 2025) EllapsedTime: 34.3 seconds RetCode: 0 Status: OK PackageFile: flowBin_1.45.0.tar.gz PackageFileSize: 574.9 KiB