Package: flowBin Version: 1.45.0 Maintainer: Kieran O'Neill MaintainerEmail: koneill at bccrc.ca git_url: https://git.bioconductor.org/packages/flowBin git_branch: devel git_last_commit: f833cbb git_last_commit_date: 2025-04-15 10:28:08 -0400 (Tue, 15 Apr 2025)