Package: flowBeads Version: 1.49.0 Command: /home/biocbuild/bbs-3.23-bioc/R/bin/R CMD INSTALL flowBeads StartedAt: 2025-11-25 15:39:13 -0500 (Tue, 25 Nov 2025) EndedAt: 2025-11-25 15:39:22 -0500 (Tue, 25 Nov 2025) EllapsedTime: 9.5 seconds RetCode: 0 Status: OK