Package: flowBeads Version: 1.49.0 Command: /home/biocbuild/bbs-3.23-bioc/R/bin/R CMD build --keep-empty-dirs --no-resave-data flowBeads StartedAt: 2025-11-25 17:40:19 -0500 (Tue, 25 Nov 2025) EndedAt: 2025-11-25 17:40:34 -0500 (Tue, 25 Nov 2025) EllapsedTime: 15.0 seconds RetCode: 0 Status: OK PackageFile: flowBeads_1.49.0.tar.gz PackageFileSize: 977.8 KiB