Package: flowBeads Version: 1.49.0 Command: /Library/Frameworks/R.framework/Resources/bin/R CMD INSTALL flowBeads StartedAt: 2025-11-24 15:20:59 -0500 (Mon, 24 Nov 2025) EndedAt: 2025-11-24 15:21:16 -0500 (Mon, 24 Nov 2025) EllapsedTime: 16.3 seconds RetCode: 0 Status: OK