Package: flowBeads Version: 1.49.0 Command: /Library/Frameworks/R.framework/Resources/bin/R CMD build --keep-empty-dirs --no-resave-data flowBeads StartedAt: 2025-11-24 17:00:58 -0500 (Mon, 24 Nov 2025) EndedAt: 2025-11-24 17:01:19 -0500 (Mon, 24 Nov 2025) EllapsedTime: 20.6 seconds RetCode: 0 Status: OK PackageFile: flowBeads_1.49.0.tar.gz PackageFileSize: 977.2 KiB