Package: flowBeads Version: 1.47.0 Command: /Library/Frameworks/R.framework/Resources/bin/R CMD INSTALL flowBeads StartedAt: 2025-10-22 15:20:15 -0400 (Wed, 22 Oct 2025) EndedAt: 2025-10-22 15:20:19 -0400 (Wed, 22 Oct 2025) EllapsedTime: 4.1 seconds RetCode: 0 Status: OK