Package: flowBeads Version: 1.47.0 Command: rm -rf flowBeads.buildbin-libdir && mkdir flowBeads.buildbin-libdir && /Users/biocbuild/BBS/utils/build-universal.sh flowBeads_1.47.0.tar.gz /Library/Frameworks/R.framework/Resources/bin/R flowBeads.buildbin-libdir StartedAt: 2025-10-22 23:00:43 -0400 (Wed, 22 Oct 2025) EndedAt: 2025-10-22 23:00:47 -0400 (Wed, 22 Oct 2025) EllapsedTime: 4.1 seconds RetCode: 0 Status: OK PackageFile: flowBeads_1.47.0.tgz PackageFileSize: 1.227 MiB