Package: flowAI Version: 1.41.0 Command: /home/biocbuild/bbs-3.23-bioc/R/bin/R CMD INSTALL flowAI StartedAt: 2025-11-02 15:20:12 -0500 (Sun, 02 Nov 2025) EndedAt: 2025-11-02 15:20:22 -0500 (Sun, 02 Nov 2025) EllapsedTime: 10.0 seconds RetCode: 0 Status: OK