Package: flowAI Version: 1.41.0 Command: /home/biocbuild/bbs-3.23-bioc/R/bin/R CMD check --install=check:flowAI.install-out.txt --library=/home/biocbuild/bbs-3.23-bioc/R/site-library --timings flowAI_1.41.0.tar.gz StartedAt: 2025-11-02 23:15:15 -0500 (Sun, 02 Nov 2025) EndedAt: 2025-11-02 23:16:30 -0500 (Sun, 02 Nov 2025) EllapsedTime: 75.1 seconds RetCode: 0 Status: OK CheckDir: flowAI.Rcheck Warnings: 0