Package: flagme Version: 1.67.0 Command: /home/biocbuild/bbs-3.23-bioc/R/bin/R CMD INSTALL flagme StartedAt: 2025-11-07 15:48:58 -0500 (Fri, 07 Nov 2025) EndedAt: 2025-11-07 15:49:47 -0500 (Fri, 07 Nov 2025) EllapsedTime: 49.4 seconds RetCode: 0 Status: OK