Package: flagme Version: 1.67.0 Command: /home/biocbuild/bbs-3.23-bioc/R/bin/R CMD build --keep-empty-dirs --no-resave-data flagme StartedAt: 2025-11-09 17:33:41 -0500 (Sun, 09 Nov 2025) EndedAt: 2025-11-09 17:37:06 -0500 (Sun, 09 Nov 2025) EllapsedTime: 205.2 seconds RetCode: 0 Status: OK PackageFile: flagme_1.67.0.tar.gz PackageFileSize: 726.4 KiB