Package: flagme Version: 1.65.0 Command: /Library/Frameworks/R.framework/Resources/bin/R CMD INSTALL flagme StartedAt: 2025-10-08 15:49:08 -0400 (Wed, 08 Oct 2025) EndedAt: 2025-10-08 15:50:17 -0400 (Wed, 08 Oct 2025) EllapsedTime: 68.9 seconds RetCode: 0 Status: OK