Package: flagme Version: 1.65.0 Command: /Library/Frameworks/R.framework/Resources/bin/R CMD build --keep-empty-dirs --no-resave-data flagme StartedAt: 2025-10-08 17:10:02 -0400 (Wed, 08 Oct 2025) EndedAt: 2025-10-08 17:14:22 -0400 (Wed, 08 Oct 2025) EllapsedTime: 259.6 seconds RetCode: 0 Status: OK PackageFile: flagme_1.65.0.tar.gz PackageFileSize: 725.8 KiB