Package: flagme Version: 1.65.0 Maintainer: Mark Robinson , Riccardo Romoli MaintainerEmail: riccardo.romoli at unifi.it git_url: https://git.bioconductor.org/packages/flagme git_branch: devel git_last_commit: 2a39fc4 git_last_commit_date: 2025-04-15 09:43:46 -0400 (Tue, 15 Apr 2025)