Package: fishpond Version: 2.15.0 Command: /home/biocbuild/bbs-3.22-bioc/R/bin/R CMD INSTALL fishpond StartedAt: 2025-10-14 15:22:29 -0400 (Tue, 14 Oct 2025) EndedAt: 2025-10-14 15:22:52 -0400 (Tue, 14 Oct 2025) EllapsedTime: 23.0 seconds RetCode: 0 Status: OK