Package: fishpond Version: 2.15.0 Command: /home/biocbuild/bbs-3.22-bioc/R/bin/R CMD build --keep-empty-dirs --no-resave-data --md5 fishpond StartedAt: 2025-10-14 17:38:28 -0400 (Tue, 14 Oct 2025) EndedAt: 2025-10-14 17:42:10 -0400 (Tue, 14 Oct 2025) EllapsedTime: 222.3 seconds RetCode: 0 Status: OK PackageFile: fishpond_2.15.0.tar.gz PackageFileSize: 3.917 MiB