Package: findIPs Version: 1.7.0 Command: /home/biocbuild/bbs-3.23-bioc/R/bin/R CMD build --keep-empty-dirs --no-resave-data findIPs StartedAt: 2025-11-20 17:37:37 -0500 (Thu, 20 Nov 2025) EndedAt: 2025-11-20 17:42:11 -0500 (Thu, 20 Nov 2025) EllapsedTime: 274.4 seconds RetCode: 0 Status: OK PackageFile: findIPs_1.7.0.tar.gz PackageFileSize: 2.497 MiB