Package: findIPs Version: 1.5.0 Command: /Library/Frameworks/R.framework/Resources/bin/R CMD INSTALL findIPs StartedAt: 2025-10-14 15:22:48 -0400 (Tue, 14 Oct 2025) EndedAt: 2025-10-14 15:23:15 -0400 (Tue, 14 Oct 2025) EllapsedTime: 27.0 seconds RetCode: 0 Status: OK