Package: findIPs Version: 1.5.0 Command: /Library/Frameworks/R.framework/Resources/bin/R CMD build --keep-empty-dirs --no-resave-data findIPs StartedAt: 2025-10-14 17:09:23 -0400 (Tue, 14 Oct 2025) EndedAt: 2025-10-14 17:14:48 -0400 (Tue, 14 Oct 2025) EllapsedTime: 324.3 seconds RetCode: 0 Status: OK PackageFile: findIPs_1.5.0.tar.gz PackageFileSize: 2.296 MiB