Package: findIPs Version: 1.5.0 Command: /Library/Frameworks/R.framework/Resources/bin/R CMD INSTALL findIPs StartedAt: 2025-10-08 15:17:26 -0400 (Wed, 08 Oct 2025) EndedAt: 2025-10-08 15:17:34 -0400 (Wed, 08 Oct 2025) EllapsedTime: 8.3 seconds RetCode: 0 Status: OK