Package: fgsea Version: 1.35.8 Command: /home/biocbuild/bbs-3.22-bioc/R/bin/R CMD INSTALL fgsea StartedAt: 2025-10-10 15:20:50 -0400 (Fri, 10 Oct 2025) EndedAt: 2025-10-10 15:21:31 -0400 (Fri, 10 Oct 2025) EllapsedTime: 41.2 seconds RetCode: 0 Status: OK